BEGIN:VCALENDAR
VERSION:2.0
PRODID:-//ChamberMaster//Event Calendar 2.0//EN
METHOD:PUBLISH
X-PUBLISHED-TTL:P3D
REFRESH-INTERVAL:P3D
CALSCALE:GREGORIAN
BEGIN:VEVENT
DTSTART:20041208T060000Z
DTEND:20041208T060000Z
X-MICROSOFT-CDO-ALLDAYEVENT:FALSE
SUMMARY:New Member Breakfast - 04/12/08
DESCRIPTION:New Member Breakfast - 04/12/08
X-ALT-DESC;FMTTYPE=text/html:New Member Breakfast - 04/12/08
LOCATION:Panera Bread
UID:e.1902.2385
SEQUENCE:3
DTSTAMP:20260420T111626Z
URL:https://business.bataviachamber.org/events/details/new-member-breakfast-04-12-08-12-08-2004-2385
END:VEVENT

END:VCALENDAR
