BEGIN:VCALENDAR
VERSION:2.0
PRODID:-//ChamberMaster//Event Calendar 2.0//EN
METHOD:PUBLISH
X-PUBLISHED-TTL:P3D
REFRESH-INTERVAL:P3D
CALSCALE:GREGORIAN
BEGIN:VEVENT
DTSTART:20170120T000000Z
DTEND:20170120T030000Z
X-MICROSOFT-CDO-ALLDAYEVENT:FALSE
SUMMARY:New Administration...New Rules...What does this mean for your future?
DESCRIPTION:Sebold Capital Management cordially invites you and a guest to our Annual Dinner Meeting featuring Sean Sebold interviewing a panel of experts to gain insight on how the Trump Administration will reshape pieces of your plan to achieve what matters most.
X-ALT-DESC;FMTTYPE=text/html:Sebold Capital Management cordially invites you and a guest to our Annual Dinner Meeting featuring Sean Sebold interviewing a panel of experts to gain insight on how the Trump Administration will reshape pieces of your plan to achieve what matters most.
LOCATION:Hilton Lisle / Naperville 3003 Corporate West Drive Lisle\, IL 60532
UID:e.1902.6537
SEQUENCE:3
DTSTAMP:20260425T164733Z
URL:https://business.bataviachamber.org/events/details/new-administration-new-rules-what-does-this-mean-for-your-future-6537
END:VEVENT

END:VCALENDAR
