BEGIN:VCALENDAR
VERSION:2.0
PRODID:-//ChamberMaster//Event Calendar 2.0//EN
METHOD:PUBLISH
X-PUBLISHED-TTL:P3D
REFRESH-INTERVAL:P3D
CALSCALE:GREGORIAN
BEGIN:VEVENT
DTSTART:20100202T140000Z
DTEND:20100202T160000Z
X-MICROSOFT-CDO-ALLDAYEVENT:FALSE
SUMMARY:Networking...Past\, Present AND Future!
DESCRIPTION:On February 2 the Chamber Networking Group will hear from Ron Saballus about ways social media has changed how he does business and connects with others. (Ron is one of the best entrepreneurs and networkers...if he says these venues help him create value...you will want to be there to learn how!) Ron will begin with a discussion of traditional networking and then discuss how to use Internet network strategies for business. The primary focus will be on using Social Media (Facebook\, Twitter LinkedIn and YouTube) for business development. He will discuss the pros and cons of each and the Internet platforms for efficient use of these social media sites.So that we have the technology\, room and time we need\, we have moved the Networking Group from Panera Bread to the Eastside fire station...and extended it from 8:00 a.m. until 10:00 a.m. Bring your questions!Please join us.
X-ALT-DESC;FMTTYPE=text/html:<P align=left><FONT color=#0000ff>On February 2 the Chamber Networking Group will hear from Ron Saballus about ways social media has changed&nbsp\;how he does business and connects with others. (<EM>Ron is one of the best entrepreneurs and networkers...if he says these venues help him create value...you will want to be there to learn how!</EM>)&nbsp\;</FONT></P><P align=left><FONT color=#0000ff>Ron&nbsp\;will begin with a discussion of traditional networking and then&nbsp\;discuss how to use Internet network strategies for business.&nbsp\;The primary focus will be on using Social Media (Facebook\, Twitter LinkedIn and YouTube) for business development.&nbsp\;He will discuss the pros and cons of each and the Internet platforms for efficient use of these social media sites.</FONT></P><P align=left><FONT color=#0000ff>So that we have the technology\, room and time we need\, we have moved the Networking Group from Panera Bread to the Eastside fire station...and extended it&nbsp\;from 8:00 a.m.&nbsp\;until 10:00 a.m. Bring your questions!</FONT></P><P align=left><FONT color=#0000ff>Please join us.</FONT></P>
LOCATION:East Side Fire Station
UID:e.1902.1626
SEQUENCE:3
DTSTAMP:20260420T175011Z
URL:https://business.bataviachamber.org/events/details/networking-past-present-and-future-02-02-2010-1626
END:VEVENT

END:VCALENDAR
