BEGIN:VCALENDAR
VERSION:2.0
PRODID:-//ChamberMaster//Event Calendar 2.0//EN
METHOD:PUBLISH
X-PUBLISHED-TTL:P3D
REFRESH-INTERVAL:P3D
CALSCALE:GREGORIAN
BEGIN:VEVENT
DTSTART:20100303T060000Z
DTEND:20100303T060000Z
X-MICROSOFT-CDO-ALLDAYEVENT:FALSE
SUMMARY:Navigating the Bermuda Triangle: FMLA\, ADA\, and Work Comp A
DESCRIPTION:JeffreyA. Risch\, partner with Smith Amundson will discuss FMLA\, ADA and Workmen Compensation issuesand how they work together.\nJeffrey represents clients in litigation involving the FMLA\, ERISA\, theADA and OSHA matters as well as traditional labor law matters.
X-ALT-DESC;FMTTYPE=text/html:JeffreyA. Risch\, partner with Smith Amundson will discuss FMLA\, ADA and Workmen Compensation issuesand how they work together.\nJeffrey represents clients in litigation involving the FMLA\, ERISA\, theADA and OSHA matters as well as traditional labor law matters.
LOCATION:St. Mark/s Lutheran Church
UID:e.1902.1122
SEQUENCE:3
DTSTAMP:20260420T161834Z
URL:https://business.bataviachamber.org/events/details/navigating-the-bermuda-triangle-fmla-ada-and-work-comp-a-03-03-2010-1122
END:VEVENT

END:VCALENDAR
