BEGIN:VCALENDAR
VERSION:2.0
PRODID:-//ChamberMaster//Event Calendar 2.0//EN
METHOD:PUBLISH
X-PUBLISHED-TTL:P3D
REFRESH-INTERVAL:P3D
CALSCALE:GREGORIAN
BEGIN:VEVENT
DTSTART:20200313T230000Z
DTEND:20200314T040000Z
X-MICROSOFT-CDO-ALLDAYEVENT:FALSE
SUMMARY:Mutual Ground Main Event
DESCRIPTION:Join us at the Mutual Ground Main Event for a night of fun\, all while supporting a great cause!\n\n\n\nFriday\, March 13\, 2020\n\n6:00 PM - 11:00 PM\n\nEmbassy Suites by Hilton - Naperville\n\n$150 Per Ticket\n\n$1\,400 for a Table of 10\n\n\n\n\n\nDinner\, Drinks\, Live Music\, Silent and Live Auction\,\n\nExciting Raffles and More!\n\n\n\nAll proceeds will benefit Mutual Ground and our services. \n\n\n\nPurchase tickets here: https://app.mobilecause.com/form/1fffWA?vid=3vypk\n\n\n\nInterested in becoming an event sponsor? Visit our website for more details! https://www.mutualground.org/news-events/mutual-ground-main-event-gala/
X-ALT-DESC;FMTTYPE=text/html:<p><span style="color:rgb(29\, 33\, 41)\; font-family:helvetica\,arial\,sans-serif\; font-size:14px">Join us at the Mutual Ground Main Event for a night of fun\, all while supporting a great cause!</span><br />\n<br />\n<span style="color:rgb(29\, 33\, 41)\; font-family:helvetica\,arial\,sans-serif\; font-size:14px">Friday\, March 13\, 2020</span><br />\n<span style="color:rgb(29\, 33\, 41)\; font-family:helvetica\,arial\,sans-serif\; font-size:14px">6:00 PM - 11:00 PM</span><br />\n<span style="color:rgb(29\, 33\, 41)\; font-family:helvetica\,arial\,sans-serif\; font-size:14px">Embassy Suites by Hilton - Naperville</span><br />\n<span style="color:rgb(29\, 33\, 41)\; font-family:helvetica\,arial\,sans-serif\; font-size:14px">$150 Per Ticket</span><br />\n<span style="color:rgb(29\, 33\, 41)\; font-family:helvetica\,arial\,sans-serif\; font-size:14px">$1\,400 for a Table of 10</span><br />\n<br />\n<br />\n<span style="color:rgb(29\, 33\, 41)\; font-family:helvetica\,arial\,sans-serif\; font-size:14px">Dinner\, Drinks\, Live Music\, Silent and Live Auction\,</span><br />\n<span style="color:rgb(29\, 33\, 41)\; font-family:helvetica\,arial\,sans-serif\; font-size:14px">Exciting Raffles and More!</span><br />\n<br />\n<span style="color:rgb(29\, 33\, 41)\; font-family:helvetica\,arial\,sans-serif\; font-size:14px">All proceeds will benefit Mutual Ground and our services.&nbsp\;</span><br />\n<br />\n<span style="color:rgb(29\, 33\, 41)\; font-family:helvetica\,arial\,sans-serif\; font-size:14px">Purchase tickets here:&nbsp\;</span><a href="https://app.mobilecause.com/form/1fffWA?vid=3vypk&amp\;fbclid=IwAR1L_aCs48LsSXi-cafc7CQZRUIx8e7Zr-KqtFZbHAwxdZ3E03ep3fVnuC0" rel="nofollow noopener" style="color: rgb(56\, 88\, 152)\; cursor: pointer\; text-decoration-line: none\; font-family: Helvetica\, Arial\, sans-serif\; font-size: 14px\; white-space: pre-wrap\;" target="_blank">https://app.mobilecause.com/form/1fffWA?vid=3vypk</a><br />\n<br />\n<span style="color:rgb(29\, 33\, 41)\; font-family:helvetica\,arial\,sans-serif\; font-size:14px">Interested in becoming an event sponsor? Visit our website for more details!&nbsp\;</span><a href="https://l.facebook.com/l.php?u=https%3A%2F%2Fwww.mutualground.org%2Fnews-events%2Fmutual-ground-main-event-gala%2F%3Ffbclid%3DIwAR3a9rTizhbNwDh0LXFDg5ma4UUd_aI8ZZeL8E1bE67J_64y-pPPvb7emk4&amp\;h=AT0vH0jX-SHCWtW8H6wUHE1vrEXC-5Jc5gHuEbpLGwfdP5VyMpC8a04Z126zOgiXbXXZkYnC3ZBLTdUPUznXTpe90guj9sXbWhvUlCBsuHX_7paC52Otgn8XAje32NOpNKE" rel="nofollow noopener" style="color: rgb(56\, 88\, 152)\; cursor: pointer\; text-decoration-line: none\; font-family: Helvetica\, Arial\, sans-serif\; font-size: 14px\; white-space: pre-wrap\;" target="_blank">https://www.mutualground.org/news-events/mutual-ground-main-event-gala/</a></p>\n
LOCATION:Embassy Suites by Hilton-Naperville 1823 Abriter Ct\, Naperville\, IL 60563
UID:e.1902.12038
SEQUENCE:3
DTSTAMP:20260422T214536Z
URL:https://business.bataviachamber.org/events/details/mutual-ground-main-event-03-13-2020-12038
END:VEVENT

END:VCALENDAR
