BEGIN:VCALENDAR
VERSION:2.0
PRODID:-//ChamberMaster//Event Calendar 2.0//EN
METHOD:PUBLISH
X-PUBLISHED-TTL:P3D
REFRESH-INTERVAL:P3D
CALSCALE:GREGORIAN
BEGIN:VEVENT
DTSTART:20100508T050000Z
DTEND:20100508T050000Z
X-MICROSOFT-CDO-ALLDAYEVENT:FALSE
SUMMARY:Murder Mystery Dinner Show
DESCRIPTION:Enjoy a fabulous interactive show featuring a "who done it" extravaganza that features you\, the audience as part of the show as you help to "solve the crime!!!"  Dinner is Provided. $50 / Person.  Reservations Are Required!  No Walk-Ins Will Be Accepted.  Please RSVP to Myles Above Productions\, Incat 630.728.3813
X-ALT-DESC;FMTTYPE=text/html:Enjoy a fabulous interactive show featuring a "who done it" extravaganza that features you\, the audience as part of the show as you help to "solve the crime!!!"  Dinner is Provided. $50 / Person.  Reservations Are Required!  No Walk-Ins Will Be Accepted.  Please RSVP to Myles Above Productions\, Incat 630.728.3813
LOCATION:Eagle Brook Country Club
UID:e.1902.1126
SEQUENCE:3
DTSTAMP:20260420T125758Z
URL:https://business.bataviachamber.org/events/details/murder-mystery-dinner-show-05-08-2010-1126
END:VEVENT

END:VCALENDAR
