BEGIN:VCALENDAR
VERSION:2.0
PRODID:-//ChamberMaster//Event Calendar 2.0//EN
METHOD:PUBLISH
X-PUBLISHED-TTL:P3D
REFRESH-INTERVAL:P3D
CALSCALE:GREGORIAN
BEGIN:VEVENT
DTSTART:20111116T173000Z
DTEND:20111116T193000Z
X-MICROSOFT-CDO-ALLDAYEVENT:FALSE
SUMMARY:Multi-Chamber WIB ''Polka Dot'' Progressive Luncheon
DESCRIPTION:Carol Stream Chamber Women In Business present...\nMULTI-CHAMBER POLKA DOT PROGRESSIVE LUNCHEONthe BIGGEST luncheon of the year   IT'S ALL ABOUT NETWORKING: We’re on a Roll!! ˜™Come and network with other female business professionals as you enjoy this luncheon. Men are always welcome!  JOIN OTHER NETWORKING BUSINESS PROFESSIONALS!  Members of Women’s Groups from all over will get together for this Progressive Luncheon with a POLKA DOT theme. Why the dots? We will roll dice to determine which table to move to. Dice...dots...polka dots-- wear polka dots if you want to really get into the theme! Joining us will be members from the other chambers\, tba. RSVP necessary Sign up at www.bataviachamber.org/programs\, call (630) 879-7134 or email us at info@bataviachamber.org \nCost is $25/members (of one of the above mentioned groups)\, $30/visitors RSVP deadline: Friday\, November 11thPhilanthropy: Toys for “Christmas Sharing” Carol Stream Village
X-ALT-DESC;FMTTYPE=text/html:<P align=left>Carol Stream Chamber Women In Business present...</P><P align=center><BR><FONT size=4><EM><STRONG>MULTI-CHAMBER POLKA DOT PROGRESSIVE LUNCHEON</STRONG></EM></FONT></P><P align=center>the&nbsp\;BIGGEST luncheon of the year</P><P align=left>&nbsp\;&nbsp\; IT'S ALL ABOUT NETWORKING: We’re on a Roll!! ˜™</P><P align=left>Come and network with other female business professionals as you enjoy this luncheon. Men are always welcome!&nbsp\; </P><P align=left>JOIN OTHER NETWORKING BUSINESS PROFESSIONALS!&nbsp\; Members of Women’s Groups from all over will get together for this Progressive Luncheon with a POLKA DOT theme. Why the dots? We will roll dice to determine which table to move to. Dice...dots...polka dots-- wear polka dots if you want to really get into the theme! </P><P align=left>Joining us will be members from the other chambers\, tba. </P><P align=left>RSVP necessary </P><P align=left>Sign up at <A href="http://www.bataviachamber.org/programs">www.bataviachamber.org/programs</A>\, call&nbsp\;(630) 879-7134 or email us at&nbsp\;<A href="mailto:info@bataviachamber.org">info@bataviachamber.org</A> <BR>Cost is $25/members (of one of the above mentioned groups)\, $30/visitors </P><P align=left>RSVP deadline: Friday\, November 11th</P><P align=left>Philanthropy: Toys for “Christmas Sharing” Carol Stream Village</P>
LOCATION:Holiday Inn & Suites
UID:e.1902.1352
SEQUENCE:3
DTSTAMP:20260423T020713Z
URL:https://business.bataviachamber.org/events/details/multi-chamber-wib-polka-dot-progressive-luncheon-11-16-2011-1352
END:VEVENT

END:VCALENDAR
