BEGIN:VCALENDAR
VERSION:2.0
PRODID:-//ChamberMaster//Event Calendar 2.0//EN
METHOD:PUBLISH
X-PUBLISHED-TTL:P3D
REFRESH-INTERVAL:P3D
CALSCALE:GREGORIAN
BEGIN:VEVENT
DTSTART:20101112T173000Z
DTEND:20101112T190000Z
X-MICROSOFT-CDO-ALLDAYEVENT:FALSE
SUMMARY:Multi-Chamber Speed Networking Lunch - CANCELLED
DESCRIPTION:This very lively event will be held at the Country Inn & Suites in Naperville and will include speed networking.  Participants will eat lunch\, and after the final course\, networking will begin.  Everyone will have the opportunity to give a 60 second introduction to the guest sitting directly across from them and then vice versa. After the 2 minutes are up\, everyone will move one seat to the left and be allotted two new minutes.  So on\, and so forth until everyone has had a face to face with all guests.
X-ALT-DESC;FMTTYPE=text/html:<P align=left><SPAN class=Apple-style-span style="WORD-SPACING: 0px\; FONT: medium 'Times New Roman'\; TEXT-TRANSFORM: none\; COLOR: rgb(0\,0\,0)\; TEXT-INDENT: 0px\; WHITE-SPACE: normal\; LETTER-SPACING: normal\; BORDER-COLLAPSE: separate\; orphans: 2\; widows: 2\; -webkit-border-horizontal-spacing: 0px\; -webkit-border-vertical-spacing: 0px\; -webkit-text-decorations-in-effect: none\; -webkit-text-size-adjust: auto\; -webkit-text-stroke-width: 0px"><SPAN class=Apple-style-span style="FONT-SIZE: 15px\; FONT-FAMILY: Calibri\, sans-serif"><FONT size=4><FONT face=Arial><FONT color=#000080>This very lively event will be held at the Country Inn &amp\; Suites in Naperville and will include speed networking.&nbsp\; Participants will eat lunch\, and after the final course\, networking will begin.&nbsp\; Everyone will have the opportunity to give a 60 second introduction to the guest sitting directly across from them and then vice versa. After the 2 minutes are up\, everyone will move one seat to the left and be allotted two new minutes.&nbsp\; So on\, and so forth until everyone has had a face to face with all guests.<BR></FONT></FONT></FONT></SPAN></SPAN></P>
LOCATION:Country Inn & Suites
UID:e.1902.1541
SEQUENCE:3
DTSTAMP:20260420T023610Z
URL:https://business.bataviachamber.org/events/details/multi-chamber-speed-networking-lunch-cancelled-11-12-2010-1541
END:VEVENT

END:VCALENDAR
