BEGIN:VCALENDAR
VERSION:2.0
PRODID:-//ChamberMaster//Event Calendar 2.0//EN
METHOD:PUBLISH
X-PUBLISHED-TTL:P3D
REFRESH-INTERVAL:P3D
CALSCALE:GREGORIAN
BEGIN:VEVENT
DTSTART:20090504T050000Z
DTEND:20090510T050000Z
X-MICROSOFT-CDO-ALLDAYEVENT:FALSE
SUMMARY:Mother's Day Savings Promotion
DESCRIPTION:M is for the money she can save you ... ! Come in the week before Mother's Day and\, after finalizingyour purchase selections\, pick a flower. You keep the flower for Mom and enjoy the savings for you.Save anywhere from 5% to 60% on your purchase!
X-ALT-DESC;FMTTYPE=text/html:M is for the money she can save you ... ! Come in the week before Mother's Day and\, after finalizingyour purchase selections\, pick a flower. You keep the flower for Mom and enjoy the savings for you.Save anywhere from 5% to 60% on your purchase!
LOCATION:Gibby's Wine Den
UID:e.1902.941
SEQUENCE:3
DTSTAMP:20260421T104035Z
URL:https://business.bataviachamber.org/events/details/mother-s-day-savings-promotion-05-04-2009-941
END:VEVENT

END:VCALENDAR
