BEGIN:VCALENDAR
VERSION:2.0
PRODID:-//ChamberMaster//Event Calendar 2.0//EN
METHOD:PUBLISH
X-PUBLISHED-TTL:P3D
REFRESH-INTERVAL:P3D
CALSCALE:GREGORIAN
BEGIN:VEVENT
DTSTART:20231118T160000Z
DTEND:20231118T180000Z
X-MICROSOFT-CDO-ALLDAYEVENT:FALSE
SUMMARY:Mooseheart Rudolph Run 5K
DESCRIPTION:Let's kick off the season together! Run\, walk or stroll to benefit Mooseheart Child City & School.
X-ALT-DESC;FMTTYPE=text/html:Let&#39\;s kick off the season together! Run\, walk or stroll to benefit Mooseheart Child City &amp\; School.
LOCATION:Mooseheart Fieldhouse 155 S. International Drive Mooseheart\, IL 60539
UID:e.1902.20712
SEQUENCE:3
DTSTAMP:20260419T183357Z
URL:https://business.bataviachamber.org/events/details/mooseheart-rudolph-run-5k-20712
END:VEVENT

END:VCALENDAR
