BEGIN:VCALENDAR
VERSION:2.0
PRODID:-//ChamberMaster//Event Calendar 2.0//EN
METHOD:PUBLISH
X-PUBLISHED-TTL:P3D
REFRESH-INTERVAL:P3D
CALSCALE:GREGORIAN
BEGIN:VEVENT
DTSTART:20100827T050000Z
DTEND:20100827T050000Z
X-MICROSOFT-CDO-ALLDAYEVENT:FALSE
SUMMARY:Moonlight Serenade
DESCRIPTION:Concert/Cocktail Party FUN fundraiser with Batavia's own Margaret Carlson\; Celebrity Servers\; "LifeExperience" Raffles\; Lie Auction\; Scrumptious Appetizers\; Signature Drink and Dessert and lots of games!
X-ALT-DESC;FMTTYPE=text/html:Concert/Cocktail Party FUN fundraiser with Batavia's own Margaret Carlson\; Celebrity Servers\; "LifeExperience" Raffles\; Lie Auction\; Scrumptious Appetizers\; Signature Drink and Dessert and lots of games!
LOCATION:Eagle Brook Country Club
UID:e.1902.19
SEQUENCE:3
DTSTAMP:20260420T073942Z
URL:https://business.bataviachamber.org/events/details/moonlight-serenade-08-27-2010-19
END:VEVENT

END:VCALENDAR
