BEGIN:VCALENDAR
VERSION:2.0
PRODID:-//ChamberMaster//Event Calendar 2.0//EN
METHOD:PUBLISH
X-PUBLISHED-TTL:P3D
REFRESH-INTERVAL:P3D
CALSCALE:GREGORIAN
BEGIN:VEVENT
DTSTART:20110309T060000Z
DTEND:20110309T060000Z
X-MICROSOFT-CDO-ALLDAYEVENT:FALSE
SUMMARY:Monthly Meeting- Second Wednesday
DESCRIPTION:Commission works on sustainability education to the community and works as advisors to City Councilregarding policies and projects related to the environment.
X-ALT-DESC;FMTTYPE=text/html:Commission works on sustainability education to the community and works as advisors to City Councilregarding policies and projects related to the environment.
LOCATION:Batavia City Hall
UID:e.1902.160
SEQUENCE:3
DTSTAMP:20260419T195616Z
URL:https://business.bataviachamber.org/events/details/monthly-meeting-second-wednesday-03-09-2011-160
END:VEVENT

END:VCALENDAR
