BEGIN:VCALENDAR
VERSION:2.0
PRODID:-//ChamberMaster//Event Calendar 2.0//EN
METHOD:PUBLISH
X-PUBLISHED-TTL:P3D
REFRESH-INTERVAL:P3D
CALSCALE:GREGORIAN
BEGIN:VEVENT
DTSTART:20111115T060000Z
DTEND:20111115T060000Z
X-MICROSOFT-CDO-ALLDAYEVENT:FALSE
SUMMARY:Monthly Meeting - Batavia Plain Dirt Gardeners
DESCRIPTION:Refreshments\, followed by a brief business meeting and the evening's speaker. The public is always welcome!
X-ALT-DESC;FMTTYPE=text/html:Refreshments\, followed by a brief business meeting and the evening's speaker. The public is always welcome!
LOCATION:Batavia Public Library
UID:e.1902.419
SEQUENCE:3
DTSTAMP:20260423T021051Z
URL:https://business.bataviachamber.org/events/details/monthly-meeting-batavia-plain-dirt-gardeners-11-15-2011-419
END:VEVENT

END:VCALENDAR
