BEGIN:VCALENDAR
VERSION:2.0
PRODID:-//ChamberMaster//Event Calendar 2.0//EN
METHOD:PUBLISH
X-PUBLISHED-TTL:P3D
REFRESH-INTERVAL:P3D
CALSCALE:GREGORIAN
BEGIN:VEVENT
DTSTART:20100311T060000Z
DTEND:20100311T060000Z
X-MICROSOFT-CDO-ALLDAYEVENT:FALSE
SUMMARY:Mommies/Grandmas Night Out
DESCRIPTION:20 % off entire store\nWine tastin\n8 minute neck massages\nTastfully Simple\nArbonne\nand much more
X-ALT-DESC;FMTTYPE=text/html:20 % off entire store\nWine tastin\n8 minute neck massages\nTastfully Simple\nArbonne\nand much more
LOCATION:R Kids Closet
UID:e.1902.1130
SEQUENCE:3
DTSTAMP:20260420T162433Z
URL:https://business.bataviachamber.org/events/details/mommies-grandmas-night-out-03-11-2010-1130
END:VEVENT

END:VCALENDAR
