BEGIN:VCALENDAR
VERSION:2.0
PRODID:-//ChamberMaster//Event Calendar 2.0//EN
METHOD:PUBLISH
X-PUBLISHED-TTL:P3D
REFRESH-INTERVAL:P3D
CALSCALE:GREGORIAN
BEGIN:VEVENT
DTSTART:20101014T050000Z
DTEND:20101014T050000Z
X-MICROSOFT-CDO-ALLDAYEVENT:FALSE
SUMMARY:Mental Health Consultation to Help Children Ages 0-5 Struggl
DESCRIPTION:Attention parents and caregivers of children 0-5 who are in childcare.  Join TriCity Family Servicesfor a Parent Support   however\, fee waivers are available based on need. Call TriCity Family Services to register at 630-232-1070.
X-ALT-DESC;FMTTYPE=text/html:Attention parents and caregivers of children 0-5 who are in childcare.  Join TriCity Family Servicesfor a Parent Support & Education Series presentation.  \n\n"Mental Health Consultation to Help Children Ages 0-5 Struggling in Childcare" will be presented on Thursday\, October 14\, 2010 from 7:00 – 8:30 PM at the TriCity Family Services offices\, located at 1120 Randall Ct. Geneva\, IL 60134.\n\nThis presentation will be delivered by TriCity Family Services Early Childhood Mental Health Consultant\, Mandy Semenik\, MS\, LPC.  \n\nThis presentation is ideal for parents and childcare providers of children 0-5 years old\, who are in childcare.  It will answer the following questions: what is mental health consultation\, how can mental health consultation benefit you and your child\, and what happens after mental health consultation?  If you have ever had a question about the social\, emotional\,behavioral or developmental growth of a 0-5 year old child in childcare\, then come to this training.  \n\nAdvance registration is preferred.  Entrance fee is $10 per attendee\; however\, fee waivers are available based on need. Call TriCity Family Services to register at 630-232-1070.  \n
LOCATION:TriCity Family Services
UID:e.1902.69
SEQUENCE:3
DTSTAMP:20260420T054813Z
URL:https://business.bataviachamber.org/events/details/mental-health-consultation-to-help-children-ages-0-5-struggl-10-14-2010-69
END:VEVENT

END:VCALENDAR
