BEGIN:VCALENDAR
VERSION:2.0
PRODID:-//ChamberMaster//Event Calendar 2.0//EN
METHOD:PUBLISH
X-PUBLISHED-TTL:P3D
REFRESH-INTERVAL:P3D
CALSCALE:GREGORIAN
BEGIN:VEVENT
DTSTART:20101028T050000Z
DTEND:20101028T050000Z
X-MICROSOFT-CDO-ALLDAYEVENT:FALSE
SUMMARY:Meet The iPad
DESCRIPTION:Take a tour of the most amazing features of iPad. Discover why it’s the best way to experience the\nweb\, e-mail\, and photos. Plus\, see how it brings your videos to life\, learn about the iBooks app –a great new way to buy and read books – and so much more!\n\nFor more experienced users\, we’ll showyou tips and tricks to organize and display your photos in a slideshow\, navigate Safari with new features\, and discover ways to see and touch your e-mail like never before. An iPad expert from the Naperville Apple Store will lead the session and answer all of your questions.
X-ALT-DESC;FMTTYPE=text/html:Take a tour of the most amazing features of iPad. Discover why it’s the best way to experience the\nweb\, e-mail\, and photos. Plus\, see how it brings your videos to life\, learn about the iBooks app –a great new way to buy and read books – and so much more!\n\nFor more experienced users\, we’ll showyou tips and tricks to organize and display your photos in a slideshow\, navigate Safari with new features\, and discover ways to see and touch your e-mail like never before. An iPad expert from the Naperville Apple Store will lead the session and answer all of your questions.
LOCATION:Rasmussen College
UID:e.1902.76
SEQUENCE:3
DTSTAMP:20260420T060523Z
URL:https://business.bataviachamber.org/events/details/meet-the-ipad-10-28-2010-76
END:VEVENT

END:VCALENDAR
