BEGIN:VCALENDAR
VERSION:2.0
PRODID:-//ChamberMaster//Event Calendar 2.0//EN
METHOD:PUBLISH
X-PUBLISHED-TTL:P3D
REFRESH-INTERVAL:P3D
CALSCALE:GREGORIAN
BEGIN:VEVENT
DTSTART:20201005T150000Z
DTEND:20201005T170000Z
X-MICROSOFT-CDO-ALLDAYEVENT:FALSE
SUMMARY:Medicare Webinar
DESCRIPTION:Representative Villa's Senior Advisory Committee will host their second medicare seminar\, this time virtually. The Representative will be joined by a representative from the Illinois Department on Aging for a conversation on the various Medicare plans\, new enrollment and important deadlines. You'll even have an opportunity for Q & A.\n\n \nJoin us from the comfort of your home\, but you'll want to register soon as space is limited.
X-ALT-DESC;FMTTYPE=text/html:<span style="font-size:12px"><span style="font-family:arial\,helvetica\,sans-serif">Representative Villa&#39\;s&nbsp\;<span style="background-color:transparent\; color:rgb(0\, 0\, 0)">Senior Advisory Committee will host their second medicare seminar\, this time virtually. The Representative will be joined by a representative from the Illinois Department on Aging for a conversation on the various Medicare plans\, new enrollment and important deadlines. You&rsquo\;ll even have an opportunity for Q &amp\; A.</span></span></span><br />\n&nbsp\;\n<p><span style="font-size:12px"><span style="font-family:arial\,helvetica\,sans-serif"><span style="background-color:transparent\; color:rgb(0\, 0\, 0)">Join us from the comfort of your home\, but you&rsquo\;ll want to register soon as space is limited. </span></span></span></p>\n\n<div>&nbsp\;</div>\n
LOCATION:
UID:e.1902.12373
SEQUENCE:3
DTSTAMP:20260422T095346Z
URL:https://business.bataviachamber.org/events/details/medicare-webinar-12373
END:VEVENT

END:VCALENDAR
