BEGIN:VCALENDAR
VERSION:2.0
PRODID:-//ChamberMaster//Event Calendar 2.0//EN
METHOD:PUBLISH
X-PUBLISHED-TTL:P3D
REFRESH-INTERVAL:P3D
CALSCALE:GREGORIAN
BEGIN:VEVENT
DTSTART:20260516T170000Z
DTEND:20260517T020000Z
X-MICROSOFT-CDO-ALLDAYEVENT:FALSE
SUMMARY:May 'Moosic" Fest and Pork BBQ
DESCRIPTION:Open to the public. \n\n\n\nLive music and pork bbq event at the Batavia Moose Lodge outdoor venue.  Bring your own chairs and come out and enjoy 3 bands and a pork bbq dinner (donations appreciated). Drinks available for purchase (no outside alcohol allowed). Our venue has plenty of shade and a place for the kids to play.\n\n	1pm: The River City Ramblers\n	3pm:  Head Honchos\n	5:30 pm: The Beaver Moon Band\n\n\n\nAll net proceeds help the Batavia Moose Lodge support the needs of the children at Mooseheart Child City and School. \n\n\n\nThis event is sponsored by the Batavia Moose Riders.\n\n\n\nThe event will be held indoors if weather requires.
X-ALT-DESC;FMTTYPE=text/html:Open to the public.&nbsp\;<br />\n<br />\nLive music and pork bbq event at the Batavia Moose Lodge outdoor venue.&nbsp\; Bring your own chairs and come out and enjoy 3 bands and a pork bbq dinner (donations appreciated).&nbsp\;Drinks available for purchase (no outside alcohol allowed). Our venue has plenty of shade and a place for the kids to play.\n<ul>\n	<li>1pm: The River City Ramblers</li>\n	<li>3pm:&nbsp\; Head Honchos</li>\n	<li>5:30 pm: The Beaver Moon Band</li>\n</ul>\n<br />\nAll net proceeds help the Batavia Moose Lodge support the needs of the children at Mooseheart Child City and School.&nbsp\;<br />\n<br />\nThis event is sponsored by the Batavia Moose Riders.<br />\n<br />\nThe event will be held indoors if weather requires.&nbsp\;
LOCATION:Batavia Moose Lodge
UID:e.1902.31261
SEQUENCE:3
DTSTAMP:20260424T144342Z
URL:https://business.bataviachamber.org/events/details/may-moosic-fest-and-pork-bbq-31261
END:VEVENT

END:VCALENDAR
