BEGIN:VCALENDAR
VERSION:2.0
PRODID:-//ChamberMaster//Event Calendar 2.0//EN
METHOD:PUBLISH
X-PUBLISHED-TTL:P3D
REFRESH-INTERVAL:P3D
CALSCALE:GREGORIAN
BEGIN:VEVENT
DTSTART:20251122T010000Z
DTEND:20251123T050000Z
X-MICROSOFT-CDO-ALLDAYEVENT:FALSE
SUMMARY:Matt Friend Stand Up Comedy
DESCRIPTION:See master impressionist and comedian Matt Friend live at The Comedy Vault in Batavia\, IL\, for four shows over two nights\, November 21-22! As seen on The Howard Stern Show\, Jimmy Kimmel Live\, and Netflix Is A Joke Festival\, Matt's viral impressions and sharp comedy have captivated audiences worldwide. VIP tickets include seating in the first three rows.
X-ALT-DESC;FMTTYPE=text/html:See master impressionist and comedian Matt Friend live at The Comedy Vault in Batavia\, IL\, for four shows over two nights\, November 21-22! As seen on <em>The Howard Stern Show</em>\, <em>Jimmy Kimmel Live</em>\, and <em>Netflix Is A Joke Festival</em>\, Matt&#39\;s viral impressions and sharp comedy have captivated audiences worldwide. VIP tickets include seating in the first three rows.&nbsp\;
LOCATION:The Comedy Vault
UID:e.1902.29405
SEQUENCE:3
DTSTAMP:20260425T031803Z
URL:https://business.bataviachamber.org/events/details/matt-friend-stand-up-comedy-29405
END:VEVENT

END:VCALENDAR
