BEGIN:VCALENDAR
VERSION:2.0
PRODID:-//ChamberMaster//Event Calendar 2.0//EN
METHOD:PUBLISH
X-PUBLISHED-TTL:P3D
REFRESH-INTERVAL:P3D
CALSCALE:GREGORIAN
BEGIN:VEVENT
DTSTART:20110827T170000Z
DTEND:20110827T210000Z
X-MICROSOFT-CDO-ALLDAYEVENT:FALSE
SUMMARY:Masus Financial Grand Opening & Ribbon Cutting
DESCRIPTION:Be sure to join John & Todd Masus and their friendly\, professional staff for the Grand Opening and Ribbon Cutting at their new offices.
X-ALT-DESC;FMTTYPE=text/html:<P align=left><FONT color=#000080 size=4>Be sure to join John &amp\; Todd Masus and their friendly\, professional staff for the Grand Opening and Ribbon Cutting at their new offices.</FONT></P>
LOCATION:Masus Financial Group
UID:e.1902.1747
SEQUENCE:3
DTSTAMP:20260419T121040Z
URL:https://business.bataviachamber.org/events/details/masus-financial-grand-opening-ribbon-cutting-08-27-2011-1747
END:VEVENT

END:VCALENDAR
