BEGIN:VCALENDAR
VERSION:2.0
PRODID:-//ChamberMaster//Event Calendar 2.0//EN
METHOD:PUBLISH
X-PUBLISHED-TTL:P3D
REFRESH-INTERVAL:P3D
CALSCALE:GREGORIAN
BEGIN:VEVENT
DTSTART:20091030T050000Z
DTEND:20091030T050000Z
X-MICROSOFT-CDO-ALLDAYEVENT:FALSE
SUMMARY:Masquerade Fundraiser
DESCRIPTION:Masquerade Fundraiser tickets $20.00 non-members $15.00 Members Dance music by professional DJ\, Costume contest with prizes\, sweet treats\, 50/50 raffle and more
X-ALT-DESC;FMTTYPE=text/html:Masquerade Fundraiser tickets $20.00 non-members $15.00 Members Dance music by professional DJ\, Costume contest with prizes\, sweet treats\, 50/50 raffle and more
LOCATION:Water Street Studios
UID:e.1902.1053
SEQUENCE:3
DTSTAMP:20260421T025645Z
URL:https://business.bataviachamber.org/events/details/masquerade-fundraiser-10-30-2009-1053
END:VEVENT

END:VCALENDAR
