BEGIN:VCALENDAR
VERSION:2.0
PRODID:-//ChamberMaster//Event Calendar 2.0//EN
METHOD:PUBLISH
X-PUBLISHED-TTL:P3D
REFRESH-INTERVAL:P3D
CALSCALE:GREGORIAN
BEGIN:VEVENT
DTSTART;VALUE=DATE:20201018
DTEND;VALUE=DATE:20201019
TRANSP:TRANSPARENT
X-MICROSOFT-CDO-ALLDAYEVENT:TRUE
SUMMARY:Marklund's Run\, Walk & Roll- Geneva
DESCRIPTION:Marklund invites you to join us for our 8th Annual Run\, Walk & Roll 5K/1Mile event on Sunday\, October 18th at the Marklund Hyde Center in Geneva! NOW is our time to come together to make everyday life possible for individual with profound disabilities. Register today to start your journey and make your mark- by helping others.\n\nRegistration includes 2020 Run\, Walk & Roll event hoodie\,\n\nrace bib (5K chipped timing or virtual timing link)\,\n\nfinisher award\, entry into after party\, and much more!\n \n\nAs a non-profit organization\, we rely on our annual fundraising events to fill the service gap of $13\,200 per resident\, per year   assuring the highest standard of Marklund care. Not only does the Run\, Walk & Roll event help fill this gap\, it gives individuals the platform to get active while celebrating Marklund with fellow friends\, family and community members.\n\nThough we cannot predict what is to come this October\, we can guarantee proper action and accommodations will be in place to provide a safe\, and fun event for all participants\n\n \n\nFor ALL event details and opportunities\, visit www.marklund.org/5kgeneva
X-ALT-DESC;FMTTYPE=text/html:<h3><span style="font-family:verdana">Marklund invites you to join us for our 8th Annual Run\, Walk &amp\; Roll 5K/1Mile event on Sunday\, October 18th at the Marklund Hyde Center in Geneva! NOW is our time to come together to make everyday life possible for individual with profound disabilities.&nbsp\;Register today to start your journey and make your mark- by helping others.</span></h3>\n\n<h4 style="text-align:center"><span style="font-family:verdana"><strong><span style="color:rgb(31\, 76\, 191)">Registration includes 2020 Run\, Walk &amp\; Roll event hoodie\,<br />\nrace bib (5K chipped timing or virtual timing link)\,</span></strong><br />\n<strong><span style="color:rgb(31\, 76\, 191)">finisher award\, entry into after party\, and much more!</span></strong></span></h4>\n&nbsp\;\n\n<p><span style="font-family:verdana">As a non-profit organization\, we rely on our annual fundraising events to fill the service gap of $13\,200 per resident\, per year &ndash\; assuring the&nbsp\;<strong>highest&nbsp\;</strong>standard of Marklund care. Not only does the Run\, Walk &amp\; Roll event help fill this gap\, it gives individuals the platform to get active while celebrating Marklund with fellow friends\, family and community members.</span></p>\n\n<p><span style="font-family:verdana">Though we cannot predict what is to come this October\, we can guarantee proper action and accommodations will be in place to provide a safe\, and fun event for all participants</span><br />\n&nbsp\;</p>\n\n<h2>For ALL event details and opportunities\, visit&nbsp\;<a href="http://www.marklund.org/5kgeneva">www.marklund.org/5kgeneva</a></h2>\n\n<p><br />\n<br />\n&nbsp\;</p>\n
LOCATION:Marklund Hyde Center 1S450 Wyatt Dr Geneva\, IL 60134 Or check out our VIRTUAL registration options to participate and support Marklund in the comfort of your own home or neighborhood!
UID:e.1902.12227
SEQUENCE:3
DTSTAMP:20260422T095346Z
URL:https://business.bataviachamber.org/events/details/marklund-run-walk-roll-geneva-12227
END:VEVENT

END:VCALENDAR
