BEGIN:VCALENDAR
VERSION:2.0
PRODID:-//ChamberMaster//Event Calendar 2.0//EN
METHOD:PUBLISH
X-PUBLISHED-TTL:P3D
REFRESH-INTERVAL:P3D
CALSCALE:GREGORIAN
BEGIN:VEVENT
DTSTART:20080923T230000Z
DTEND:20080923T050000Z
X-MICROSOFT-CDO-ALLDAYEVENT:FALSE
SUMMARY:Market Volatility Seminar with Richard Kozlowski
DESCRIPTION:Sponsored by the Masus Financial Group\, Ltd. Our guest speaker will be Richard Kozlowski. Mr. Koslowski is associated with DWS Scudder. He is Divisional Vice President\, Financial Advisory Division and Financial Institution Division in Illinois. He will talk about factors such as: the sub prime mortgage problems\, the credit crunch\, and the high price of oil. We’ll also have ample time for a Q & A. Light snacks will be provided.Please R.S.V.P. by calling 630-879-8464
X-ALT-DESC;FMTTYPE=text/html:<P class=MsoNormal style="FONT-FAMILY: Arial" align=left><FONT face="Times New Roman" size=3><SPAN style="FONT-SIZE: 12pt">Sponsored by the <SPAN style="FONT-SIZE: 12pt">Masus Financial Group\, Ltd. </SPAN></SPAN></FONT></P><P class=MsoNormal style="FONT-FAMILY: Arial" align=left><FONT face="Times New Roman" size=3><SPAN style="FONT-SIZE: 12pt"><SPAN style="FONT-SIZE: 12pt"></SPAN>Our guest speaker will be Richard Kozlowski. Mr. Koslowski is associated with DWS Scudder. He is Divisional Vice President\, Financial Advisory Division and Financial Institution Division in Illinois. He will talk about factors such as: the sub prime mortgage problems\, the credit crunch\, and the high price of oil. We’ll also have ample time for a Q &amp\; A. Light snacks will be provided.</SPAN></FONT></P><P class=MsoNormal style="FONT-FAMILY: Arial" align=left><FONT face="Times New Roman" size=3><SPAN style="FONT-SIZE: 12pt">Please R.S.V.P. by calling 630-879-8464</SPAN></FONT></P>
LOCATION:Batavia Public Library
UID:e.1902.1579
SEQUENCE:3
DTSTAMP:20260422T005801Z
URL:https://business.bataviachamber.org/events/details/market-volatility-seminar-with-richard-kozlowski-09-23-2008-1579
END:VEVENT

END:VCALENDAR
