BEGIN:VCALENDAR
VERSION:2.0
PRODID:-//ChamberMaster//Event Calendar 2.0//EN
METHOD:PUBLISH
X-PUBLISHED-TTL:P3D
REFRESH-INTERVAL:P3D
CALSCALE:GREGORIAN
BEGIN:VEVENT
DTSTART:20100216T060000Z
DTEND:20100216T060000Z
X-MICROSOFT-CDO-ALLDAYEVENT:FALSE
SUMMARY:Mardi Gras - Fat Tuesday
DESCRIPTION:Alden Courts of Waterford cordially invites you to a Mardi Gras - Fat Tuesday celebraton. Enjoy socialinzing and making new business contacts while indulging in the foods that made New Orleans famous!! Please RSVP to 630-851-1466 by 2/12/10.
X-ALT-DESC;FMTTYPE=text/html:Alden Courts of Waterford cordially invites you to a Mardi Gras - Fat Tuesday celebraton. Enjoy socialinzing and making new business contacts while indulging in the foods that made New Orleans famous!! Please RSVP to 630-851-1466 by 2/12/10.
LOCATION:Alden Courts of Waterford
UID:e.1902.1109
SEQUENCE:3
DTSTAMP:20260420T175337Z
URL:https://business.bataviachamber.org/events/details/mardi-gras-fat-tuesday-02-16-2010-1109
END:VEVENT

END:VCALENDAR
