BEGIN:VCALENDAR
VERSION:2.0
PRODID:-//ChamberMaster//Event Calendar 2.0//EN
METHOD:PUBLISH
X-PUBLISHED-TTL:P3D
REFRESH-INTERVAL:P3D
CALSCALE:GREGORIAN
BEGIN:VEVENT
DTSTART:20251124T013000Z
DTEND:20251124T040000Z
X-MICROSOFT-CDO-ALLDAYEVENT:FALSE
SUMMARY:Marc-Anthony Sinagoga Stand Up Comedy
DESCRIPTION:Special Event: Marc-Anthony Sinagoga\n\n\n\nExperience Marc-Anthony Sinagoga live at The Comedy Vault in Batavia\, IL on November 23rd! Known for his hilarious life stories\, spot-on imitations\, and viral Italian Grandfather character\, Marc-Anthony brings a night of laughter you won't forget.\n\n\n\nMarc-Anthony Sinagoga is known for telling his outlandish life experiences with brilliant imitation\, wit\, and a loveable stage presence. He recreates his life experiences as an overweight Italian going against the family grain in a melting pot society. Marc-Anthony is fresh off a Just Laughs Originals taping\; he was a featured performer at the Dallas Comedy Festival\, Arizona's Big Pine Comedy Festival and the winner of the Brantford Comedy Festival. On social media (@notmarcanthony) he has gained over 50M views for his Italian Grandfather's character and his imitation of Ontario's Premiere Doug Ford.
X-ALT-DESC;FMTTYPE=text/html:Special Event: Marc-Anthony Sinagoga<br />\n<br />\nExperience Marc-Anthony Sinagoga live at The Comedy Vault in Batavia\, IL on November 23rd! Known for his hilarious life stories\, spot-on imitations\, and viral Italian Grandfather character\, Marc-Anthony brings a night of laughter you won&rsquo\;t forget.<br />\n<br />\nMarc-Anthony Sinagoga is known for telling his outlandish life experiences with brilliant imitation\, wit\, and a loveable stage presence. He recreates his life experiences as an overweight Italian going against the family grain in a melting pot society. Marc-Anthony is fresh off a Just Laughs Originals taping\; he was a featured performer at the Dallas Comedy Festival\, Arizona&#39\;s Big Pine Comedy Festival and the winner of the Brantford Comedy Festival. On social media (@notmarcanthony) he has gained over 50M views for his Italian Grandfather&#39\;s character and his imitation of Ontario&#39\;s Premiere Doug Ford.<br />\n<br />\n<br />\n<br />\n&nbsp\;
LOCATION:The Comedy Vault
UID:e.1902.29749
SEQUENCE:3
DTSTAMP:20260425T031855Z
URL:https://business.bataviachamber.org/events/details/marc-anthony-sinagoga-stand-up-comedy-29749
END:VEVENT

END:VCALENDAR
