BEGIN:VCALENDAR
VERSION:2.0
PRODID:-//ChamberMaster//Event Calendar 2.0//EN
METHOD:PUBLISH
X-PUBLISHED-TTL:P3D
REFRESH-INTERVAL:P3D
CALSCALE:GREGORIAN
BEGIN:VEVENT
DTSTART:20101113T060000Z
DTEND:20101113T060000Z
X-MICROSOFT-CDO-ALLDAYEVENT:FALSE
SUMMARY:MALLternative Holiday Craft & Vendor Show
DESCRIPTION:Shop at more than 25 booths for holiday crafts\, cosmetics\, kitchen items\, clothing\, chiropractic care\, home decor\, handbags\, fitness\, jewelry\, gourmet food mixes\, accessories and more!  Baked goods and lunch items available for purchase\, plus quilt and other raffles and giveaways. First 50 shoppersreceive a goody bag!  Proceeds benefit the ministries of Calvary Episcopal Church.
X-ALT-DESC;FMTTYPE=text/html:Shop at more than 25 booths for holiday crafts\, cosmetics\, kitchen items\, clothing\, chiropractic care\, home decor\, handbags\, fitness\, jewelry\, gourmet food mixes\, accessories and more!  Baked goods and lunch items available for purchase\, plus quilt and other raffles and giveaways. First 50 shoppersreceive a goody bag!  Proceeds benefit the ministries of Calvary Episcopal Church.
LOCATION:Bethany Ministry Center
UID:e.1902.83
SEQUENCE:3
DTSTAMP:20260420T023845Z
URL:https://business.bataviachamber.org/events/details/mallternative-holiday-craft-vendor-show-11-13-2010-83
END:VEVENT

END:VCALENDAR
