BEGIN:VCALENDAR
VERSION:2.0
PRODID:-//ChamberMaster//Event Calendar 2.0//EN
METHOD:PUBLISH
X-PUBLISHED-TTL:P3D
REFRESH-INTERVAL:P3D
CALSCALE:GREGORIAN
BEGIN:VEVENT
DTSTART:20091127T060000Z
DTEND:20091127T060000Z
X-MICROSOFT-CDO-ALLDAYEVENT:FALSE
SUMMARY:MALLternative
DESCRIPTION:Why fight the crowds at the mall the day after Thanksgiving\, when you can come and do one-stop-shopping at Calvary's Holiday Bazaar and Vendor Show. Holiday crafts\, items for the home\, jewelry... something for everyone! All proceeds benefit the outreach ministries of Calvary - including several local agencies\, such as the Batavia Interfaith Food Pantry and Mutual Ground Women's Shelter. Admission is free!
X-ALT-DESC;FMTTYPE=text/html:Why fight the crowds at the mall the day after Thanksgiving\, when you can come and do one-stop-shopping at Calvary's Holiday Bazaar and Vendor Show. Holiday crafts\, items for the home\, jewelry... something for everyone! All proceeds benefit the outreach ministries of Calvary - including several local agencies\, such as the Batavia Interfaith Food Pantry and Mutual Ground Women's Shelter. Admission is free!
LOCATION:Calvary Episcopal Church
UID:e.1902.989
SEQUENCE:3
DTSTAMP:20260420T231602Z
URL:https://business.bataviachamber.org/events/details/mallternative-11-27-2009-989
END:VEVENT

END:VCALENDAR
