BEGIN:VCALENDAR
VERSION:2.0
PRODID:-//ChamberMaster//Event Calendar 2.0//EN
METHOD:PUBLISH
X-PUBLISHED-TTL:P3D
REFRESH-INTERVAL:P3D
CALSCALE:GREGORIAN
BEGIN:VEVENT
DTSTART:20101021T050000Z
DTEND:20101021T050000Z
X-MICROSOFT-CDO-ALLDAYEVENT:FALSE
SUMMARY:Making the Most of Early Childhood Therapy for Parents and P
DESCRIPTION:Attention parents and caregivers of children 0-5.  Join TriCity Family Services for a Parent Support  however\, fee waivers are available based on need. Call TriCityFamily Services to register at 630-232-1070.
X-ALT-DESC;FMTTYPE=text/html:Attention parents and caregivers of children 0-5.  Join TriCity Family Services for a Parent Support& Education Series presentation.  \n\n"Making the Most of Early Childhood Therapy for Parents and Providers" will be presented on Thursday\, October 21\, 2010 from 7:00 – 8:30 PM at the TriCity FamilyServices offices\, located at 1120 Randall Ct. Geneva\, IL 60134.  This presentation will be deliveredby Tracy Muklewicz\, M.S. Ed\, NCC\, LCPC.\n\nThis presentation is ideal for parents and childcare providers of children 0-5 years old.  It will answer the following questions: what is involved in finding a therapist\, how might parents and family be involved in treatment\, how might childcare providersbe involved in treatment\, what are some common disorders and treatments\, and how might those disorders impact children in their homes and schools?  If you have considered therapy for a child 0-5 years old but wanted to know more\, then come to this presentation.  \n\nAdvance registration is preferred.  Entrance fee is $10 per attendee\; however\, fee waivers are available based on need. Call TriCityFamily Services to register at 630-232-1070.  \n
LOCATION:TriCity Family Services
UID:e.1902.71
SEQUENCE:3
DTSTAMP:20260420T054859Z
URL:https://business.bataviachamber.org/events/details/making-the-most-of-early-childhood-therapy-for-parents-and-p-10-21-2010-71
END:VEVENT

END:VCALENDAR
