BEGIN:VCALENDAR
VERSION:2.0
PRODID:-//ChamberMaster//Event Calendar 2.0//EN
METHOD:PUBLISH
X-PUBLISHED-TTL:P3D
REFRESH-INTERVAL:P3D
CALSCALE:GREGORIAN
BEGIN:VEVENT
DTSTART:20110621T050000Z
DTEND:20110621T050000Z
X-MICROSOFT-CDO-ALLDAYEVENT:FALSE
SUMMARY:Mad Hatter Tea Party
DESCRIPTION:The Lakes of Waterford will be hosting a "Mad Hatter Tea Party"!! Join us for a Hig Tea and delicious goodies.  Tour our wonderful homes while you are here!!  Please RSVP by June 14th at 630-585-8047
X-ALT-DESC;FMTTYPE=text/html:The Lakes of Waterford will be hosting a "Mad Hatter Tea Party"!! Join us for a Hig Tea and delicious goodies.  Tour our wonderful homes while you are here!!  Please RSVP by June 14th at 630-585-8047
LOCATION:The Lakes of Waterford
UID:e.1902.276
SEQUENCE:3
DTSTAMP:20260419T162220Z
URL:https://business.bataviachamber.org/events/details/mad-hatter-tea-party-06-21-2011-276
END:VEVENT

END:VCALENDAR
