BEGIN:VCALENDAR
VERSION:2.0
PRODID:-//ChamberMaster//Event Calendar 2.0//EN
METHOD:PUBLISH
X-PUBLISHED-TTL:P3D
REFRESH-INTERVAL:P3D
CALSCALE:GREGORIAN
BEGIN:VEVENT
DTSTART:20101004T050000Z
DTEND:20101004T050000Z
X-MICROSOFT-CDO-ALLDAYEVENT:FALSE
SUMMARY:Luncheon & Program
DESCRIPTION:Monthly Luncheon with program followed by general club meeting. Guests welcome. Cost of Lunch $12.00. Reservations call Julie Browman 630-897-2520.
X-ALT-DESC;FMTTYPE=text/html:Monthly Luncheon with program followed by general club meeting. Guests welcome. Cost of Lunch $12.00. Reservations call Julie Browman 630-897-2520.
LOCATION:Riverview Banquets
UID:e.1902.60
SEQUENCE:3
DTSTAMP:20260420T041301Z
URL:https://business.bataviachamber.org/events/details/luncheon-program-10-04-2010-60
END:VEVENT

END:VCALENDAR
