BEGIN:VCALENDAR
VERSION:2.0
PRODID:-//ChamberMaster//Event Calendar 2.0//EN
METHOD:PUBLISH
X-PUBLISHED-TTL:P3D
REFRESH-INTERVAL:P3D
CALSCALE:GREGORIAN
BEGIN:VEVENT
DTSTART:20091102T060000Z
DTEND:20091102T060000Z
X-MICROSOFT-CDO-ALLDAYEVENT:FALSE
SUMMARY:Luncheon/General Meeting
DESCRIPTION:The Batavia Woman's Club "Geraniums for Scholarships" winners will perform at the clubs monthly luncheon/meeting on Monday\, November 2nd. The scholarship winners will share their summer session experience and perform as a part of the program for the afternoon.  The club's annual geranium sale in Mayprovides the money used for these scholarships.
X-ALT-DESC;FMTTYPE=text/html:The Batavia Woman's Club "Geraniums for Scholarships" winners will perform at the clubs monthly luncheon/meeting on Monday\, November 2nd. The scholarship winners will share their summer session experience and perform as a part of the program for the afternoon.  The club's annual geranium sale in Mayprovides the money used for these scholarships.
LOCATION:Riverview Banquets
UID:e.1902.1065
SEQUENCE:3
DTSTAMP:20260420T231843Z
URL:https://business.bataviachamber.org/events/details/luncheon-general-meeting-11-02-2009-1065
END:VEVENT

END:VCALENDAR
