BEGIN:VCALENDAR
VERSION:2.0
PRODID:-//ChamberMaster//Event Calendar 2.0//EN
METHOD:PUBLISH
X-PUBLISHED-TTL:P3D
REFRESH-INTERVAL:P3D
CALSCALE:GREGORIAN
BEGIN:VEVENT
DTSTART:20090313T050000Z
DTEND:20090313T050000Z
X-MICROSOFT-CDO-ALLDAYEVENT:FALSE
SUMMARY:Luck 'O the Irish Spring Fling
DESCRIPTION:Green Tea Tasting\, Door Prizes & special offers from local businesses (Lia Sophia\, Entertaining at Home\, Mary Kay and Trademan Photography) and "Sharin' of the Green" - please bring a non-perishable food item for the Batavia Interfaith Food Pantry.
X-ALT-DESC;FMTTYPE=text/html:Green Tea Tasting\, Door Prizes & special offers from local businesses (Lia Sophia\, Entertaining at Home\, Mary Kay and Trademan Photography) and "Sharin' of the Green" - please bring a non-perishable food item for the Batavia Interfaith Food Pantry.
LOCATION:Four Beans Coffee House
UID:e.1902.883
SEQUENCE:3
DTSTAMP:20260425T111652Z
URL:https://business.bataviachamber.org/events/details/luck-o-the-irish-spring-fling-03-13-2009-883
END:VEVENT

END:VCALENDAR
