BEGIN:VCALENDAR
VERSION:2.0
PRODID:-//ChamberMaster//Event Calendar 2.0//EN
METHOD:PUBLISH
X-PUBLISHED-TTL:P3D
REFRESH-INTERVAL:P3D
CALSCALE:GREGORIAN
BEGIN:VEVENT
DTSTART:20200326T233000Z
DTEND:20200327T003000Z
X-MICROSOFT-CDO-ALLDAYEVENT:FALSE
SUMMARY:Low Back Pain and Sciatica Workshop
DESCRIPTION:Are you not able to stand and do simple chores because of back pain? Do you avoid sitting or walking because the pain will get worse? Are you afraid your pain will get worse if you don't do anything about it?\n\nOur team of qualified Physical Therapists will instruct you in what causes most lower back pain\, what successful treatment looks like without the side effects of medications\, injections or surgery\, and 3 stretches/exercises that will address your back pain.\n\nPTA is offering you a solution to your back pain and the opportunity to take control and get your life back.\n\n\n\nCome to the workshop and learn"\n\nThe Biggest Mistake Low Back Pain Sufferers Make\n\nThe Three Most Common Causes For Low Back Pain\n\n2-3 Strategies to Reduce Back Pain\n\nClick on the link below to register for the workshop. Call the clinic\, 630-892-8003\, with any questions.\n\n\nhttps://www.ptadvantagepc.com/Back-Pain-Workshop-Registration
X-ALT-DESC;FMTTYPE=text/html:<p>Are you not able to stand and do simple chores because of back pain? Do you avoid sitting or walking because the pain will get worse? Are you afraid your pain will get worse if you don&#39\;t do anything about it?</p>\n\n<p>Our team of qualified Physical Therapists will instruct you in what causes most lower back pain\, what successful treatment looks like without the side effects of medications\, injections or surgery\, and 3 stretches/exercises that will address your back pain.</p>\n\n<p>PTA is offering you a solution to your back pain and the opportunity to take control and get your life back.<br />\n<br />\nCome to the workshop and learn&quot\;</p>\n\n<p>The Biggest Mistake Low Back Pain Sufferers Make</p>\n\n<p>The Three Most Common Causes For Low Back Pain</p>\n\n<p>2-3 Strategies to Reduce Back Pain</p>\n\n<p>Click on the link below to register for the workshop. Call the clinic\, 630-892-8003\, with any questions.</p>\n\n<div>\n<p><a href="https://www.ptadvantagepc.com/Back-Pain-Workshop-Registration" style="box-sizing: inherit\; background-color: transparent\; color: rgb(255\, 96\, 85)\; text-decoration-line: none\; outline: none\;" target="_blank">https://www.ptadvantagepc.com/Back-Pain-Workshop-Registration</a></p>\n</div>\n
LOCATION:Physical Therapy Advantage 35 South Randall Road North Aurora\, IL 60542
UID:e.1902.12045
SEQUENCE:3
DTSTAMP:20260422T214435Z
URL:https://business.bataviachamber.org/events/details/low-back-pain-and-sciatica-workshop-03-26-2020-12045
END:VEVENT

END:VCALENDAR
