BEGIN:VCALENDAR
VERSION:2.0
PRODID:-//ChamberMaster//Event Calendar 2.0//EN
METHOD:PUBLISH
X-PUBLISHED-TTL:P3D
REFRESH-INTERVAL:P3D
CALSCALE:GREGORIAN
BEGIN:VEVENT
DTSTART:20120128T060000Z
DTEND:20120128T060000Z
X-MICROSOFT-CDO-ALLDAYEVENT:FALSE
SUMMARY:Local School Hosts Free Parenting Workshop
DESCRIPTION:Local school\, Montessori Academy\, is hosting a free parenting workshop will featuring nationally known educator and lecturer Susan Tracy\, M.Ed. and is intended for all parents of children age three tosix. She will offer effective tools for preventing and solving behavior issues that every parent ofa young child can encounter. This is practical\, effective information based on years of observation\, practiced with Susan's four children\, and applied in hundreds of families Susan has helped over the years. There will be an open house following the workshop.
X-ALT-DESC;FMTTYPE=text/html:Local school\, Montessori Academy\, is hosting a free parenting workshop will featuring nationally known educator and lecturer Susan Tracy\, M.Ed. and is intended for all parents of children age three tosix. She will offer effective tools for preventing and solving behavior issues that every parent ofa young child can encounter. This is practical\, effective information based on years of observation\, practiced with Susan's four children\, and applied in hundreds of families Susan has helped over the years. There will be an open house following the workshop.
LOCATION:Montessori Academy
UID:e.1902.501
SEQUENCE:3
DTSTAMP:20260422T223454Z
URL:https://business.bataviachamber.org/events/details/local-school-hosts-free-parenting-workshop-01-28-2012-501
END:VEVENT

END:VCALENDAR
