BEGIN:VCALENDAR
VERSION:2.0
PRODID:-//ChamberMaster//Event Calendar 2.0//EN
METHOD:PUBLISH
X-PUBLISHED-TTL:P3D
REFRESH-INTERVAL:P3D
CALSCALE:GREGORIAN
BEGIN:VEVENT
DTSTART:20100715T050000Z
DTEND:20100715T050000Z
X-MICROSOFT-CDO-ALLDAYEVENT:FALSE
SUMMARY:“Local Leaders in Business Series” presented by the Rasmusse
DESCRIPTION:Rene Cruz \, Attorney and President of the Aurora Hispanic Chamber of Commerce \n\nWednesday\, July 15th at 7:00 p.m. \n\nRene Cruz is a practicing attorney and partner at the Law Office of Gil & Cruz in Aurora\, as well as the President of the Aurora Hispanic Chamber of Commerce. He will discuss important topics in business ethics\, including how ethics must play a critical role in all facets of business\, including marketing\, hiring\, and obtaining retaining new clients.\n\nEveryone in attendance will be entered to win a Netbook!\n\nAdmission is FREE
X-ALT-DESC;FMTTYPE=text/html:Rene Cruz \, Attorney and President of the Aurora Hispanic Chamber of Commerce \n\nWednesday\, July 15th at 7:00 p.m. \n\nRene Cruz is a practicing attorney and partner at the Law Office of Gil & Cruz in Aurora\, as well as the President of the Aurora Hispanic Chamber of Commerce. He will discuss important topics in business ethics\, including how ethics must play a critical role in all facets of business\, including marketing\, hiring\, and obtaining retaining new clients.\n\nEveryone in attendance will be entered to win a Netbook!\n\nAdmission is FREE\n
LOCATION:Rasmussen College
UID:e.1902.11
SEQUENCE:3
DTSTAMP:20260420T095055Z
URL:https://business.bataviachamber.org/events/details/local-leaders-in-business-series-presented-by-the-rasmusse-07-15-2010-11
END:VEVENT

END:VCALENDAR
