BEGIN:VCALENDAR
VERSION:2.0
PRODID:-//ChamberMaster//Event Calendar 2.0//EN
METHOD:PUBLISH
X-PUBLISHED-TTL:P3D
REFRESH-INTERVAL:P3D
CALSCALE:GREGORIAN
BEGIN:VEVENT
DTSTART:20100816T050000Z
DTEND:20100816T050000Z
X-MICROSOFT-CDO-ALLDAYEVENT:FALSE
SUMMARY:“Local Leaders in Business Series” presented by Rasmussen Co
DESCRIPTION:Lessons from the Meltdown: Consumer Banking after the Financial Recession \n\nMatt Parker\, Head of Retail Banking at Old Second National Bank \n\nCome hear Matt Parker\, Head of Retail Banking at Old Second National Bank\, discuss the impact of the financial crisis on the consumer banking industry. Mr. Parker has more than 15 years of experience in retail\, business and commercial banking\, as well asresidential lending and underwriting throughout the Midwest and the Northeast. \n\nMr. Parker willprovide his insight on how the U.S. financial crisis has led to significant changes in consumer banking. He will offer an overview of the factors that caused the meltdown\, as well as discuss emergingtrends\, the path to recovery and the future outlook for consumer banking.\n\nThis is a FREE event!\n\nEveryone in Attendance will be entered to win a free netbook!
X-ALT-DESC;FMTTYPE=text/html:Lessons from the Meltdown: Consumer Banking after the Financial Recession \n\nMatt Parker\, Head of Retail Banking at Old Second National Bank \n\nCome hear Matt Parker\, Head of Retail Banking at Old Second National Bank\, discuss the impact of the financial crisis on the consumer banking industry. Mr. Parker has more than 15 years of experience in retail\, business and commercial banking\, as well asresidential lending and underwriting throughout the Midwest and the Northeast. \n\nMr. Parker willprovide his insight on how the U.S. financial crisis has led to significant changes in consumer banking. He will offer an overview of the factors that caused the meltdown\, as well as discuss emergingtrends\, the path to recovery and the future outlook for consumer banking.\n\nThis is a FREE event!\n\nEveryone in Attendance will be entered to win a free netbook!\n
LOCATION:Rasmussen College
UID:e.1902.12
SEQUENCE:3
DTSTAMP:20260420T080021Z
URL:https://business.bataviachamber.org/events/details/local-leaders-in-business-series-presented-by-rasmussen-co-08-16-2010-12
END:VEVENT

END:VCALENDAR
