BEGIN:VCALENDAR
VERSION:2.0
PRODID:-//ChamberMaster//Event Calendar 2.0//EN
METHOD:PUBLISH
X-PUBLISHED-TTL:P3D
REFRESH-INTERVAL:P3D
CALSCALE:GREGORIAN
BEGIN:VEVENT
DTSTART:20170513T130000Z
DTEND:20170513T160000Z
X-MICROSOFT-CDO-ALLDAYEVENT:FALSE
SUMMARY:LivingWell Cancer Resource Center - Bridge Walkl
DESCRIPTION:LivingWell Cancer Resource Center is holding its 12th Annual Bridge Walk on Saturday\, May 13th\, 2017\, stepping off from Fabyan Forest Preserve in Geneva\, IL (Route 31) at 8:00 a.m.. This event welcomes people of all ages to come together in a 5K walk along the Fox River to raise money and awareness for LivingWell Cancer Resource Center. Pets and strollers are welcome! Interested individuals are invited to create teams of friends\, families\, neighbors and co-workers in a celebration that raises money critical to helping support LivingWell Cancer Resource Center programs and services. Participants will enjoy food\, refreshments and entertainment.
X-ALT-DESC;FMTTYPE=text/html:LivingWell Cancer Resource Center is holding its 12th Annual Bridge Walk on Saturday\, May 13th\, 2017\, stepping off from Fabyan Forest Preserve in Geneva\, IL (Route 31) at 8:00 a.m.. This event welcomes people of all ages to come together in a 5K walk along the Fox River to raise money and awareness for LivingWell Cancer Resource Center. Pets and strollers are welcome! Interested individuals are invited to create teams of friends\, families\, neighbors and co-workers in a celebration that raises money critical to helping support LivingWell Cancer Resource Center programs and services. Participants will enjoy food\, refreshments and entertainment.
LOCATION:Fabyan Forest Preserve
UID:e.1902.6614
SEQUENCE:3
DTSTAMP:20260425T114139Z
URL:https://business.bataviachamber.org/events/details/livingwell-cancer-resource-center-bridge-walkl-6614
END:VEVENT

END:VCALENDAR
