BEGIN:VCALENDAR
VERSION:2.0
PRODID:-//ChamberMaster//Event Calendar 2.0//EN
METHOD:PUBLISH
X-PUBLISHED-TTL:P3D
REFRESH-INTERVAL:P3D
CALSCALE:GREGORIAN
BEGIN:VEVENT
DTSTART:20180427T230000Z
DTEND:20180428T020000Z
X-MICROSOFT-CDO-ALLDAYEVENT:FALSE
SUMMARY:Live Art Series: Markus Rutz Trio (WDCB Jazz Night)
DESCRIPTION:April Live Art Series\n\nFriday\, April 27\n\nWDCB Jazz Night at Water Street Studios\n\nFeaturing the Markus Rutz Trio\n\n\n\nMarkus Rutz plays trumpet with bluesy\, soulful style and a tone that has been called gorgeous. He has performed throughout Chicago and the midwest for club and venue engagements featuring jazz standards and original jazz compositions.\n\n\n\nComposition\, arrangement and performance of original tunes is an integral element of his sound and experience. Coupled with renditions of jazz and songbook standards\, the originals create an enjoyable\, true listening experience in performance.\n\n\n\nFrom the greater Chicago area originally\, Markus began trumpet study at the age of 9. As a music student\, he studied at the University of Wisconsin-Madison\, a summer semester at Berklee College\, and the University of New Orleans where he graduated with a Bachelor of Arts.\n\nSeating is limited to 70.\n\nTickets are $5 in advance or $10 at the door.\n\nDate: Friday\, April 27\, 2018\n\nLocation: 160 S. Water Street\, Batavia\, IL 60510\n\nDoors and cocktail hour at 6 p.m.\n\nPerformance begins at 7 p.m.\n\nEstimated 90 minutes with brief intermission.\n\nEnjoy a cash bar featuring beverages provided by Solemn Oath Brewery and Whiskey Acres Distilling Co.\n\nThank you to our Event Sponsors: Batavia Arts Council\, K.Hollis Jewelers\, and BEI Properties\n\nWDCB\, "Chicago's Home for Jazz\," is a listener-supported\, public radio station that broadcasts from the campus of College of DuPage in Glen Ellyn. WDCB serves Chicagoland with jazz\, blues\, news and arts programming. WDCB can be heard throughout Chicagoland on 90.9FM\, also from WDCB's 90.7FM booster signal in the West Loop\, via streaming worldwide on www.WDCB.org (and the Tune-In app) and in the city of Chicago via cable television on CAN TV42.\n\nThe Live Art Series is a monthly live art performance exploring a variety of art forms including music\, film\, dance\, storytelling\, and more! The Live Art Series event is hosted in the Dempsey Family Gallery at Water Street Studios. The Live Art Series is made possible by a grant from the Batavia Arts Council. If you are interested in performing at Water Street Studios for our Live Art Series please apply online at: http://bit.ly/2nyRJF7\n\nNote: All ticket sales go to support the continuation of arts programming at Water Street Studios\, a nonprofit art center located in Batavia\, Illinois.\n\nCONTACT\n\nJaime Gutierrez\, Events Manager\, jaime@waterstreetstudios.org\n\nDanielle Hollis\, Executive Director\, danielle@waterstreetstudios.org
X-ALT-DESC;FMTTYPE=text/html:<p>April Live Art Series<br />\nFriday\, April 27<br />\nWDCB Jazz Night at Water Street Studios<br />\nFeaturing the Markus Rutz Trio</p>\n\n<p><br />\nMarkus Rutz plays trumpet with bluesy\, soulful style and a tone that has been called gorgeous. He has performed throughout Chicago and the midwest for club and venue engagements featuring jazz standards and original jazz compositions.<br />\n<br />\nComposition\, arrangement and performance of original tunes is an integral element of his sound and experience. Coupled with renditions of jazz and songbook standards\, the originals create an enjoyable\, true listening experience in performance.<br />\n<br />\nFrom the greater Chicago area originally\, Markus began trumpet study at the age of 9. As a music student\, he studied at the University of Wisconsin-Madison\, a summer semester at Berklee College\, and the University of New Orleans where he graduated with a Bachelor of Arts.</p>\n\n<p>Seating is limited to 70.</p>\n\n<p>Tickets are $5 in advance or $10 at the door.</p>\n\n<p>Date: Friday\, April 27\, 2018</p>\n\n<p>Location: 160 S. Water Street\, Batavia\, IL 60510</p>\n\n<p>Doors and cocktail hour at 6 p.m.</p>\n\n<p>Performance begins at 7 p.m.</p>\n\n<p>Estimated 90 minutes with brief intermission.</p>\n\n<p>Enjoy a cash bar featuring beverages provided by Solemn Oath Brewery and Whiskey Acres Distilling Co.</p>\n\n<p>Thank you to our Event Sponsors: Batavia Arts Council\, K.Hollis Jewelers\, and BEI Properties</p>\n\n<p>WDCB\, &ldquo\;Chicago&rsquo\;s Home for Jazz\,&rdquo\; is a listener-supported\, public radio station that broadcasts from the campus of College of DuPage in Glen Ellyn. WDCB serves Chicagoland with jazz\, blues\, news and arts programming. WDCB can be heard throughout Chicagoland on 90.9FM\, also from WDCB&rsquo\;s 90.7FM booster signal in the West Loop\, via streaming worldwide on www.WDCB.org (and the Tune-In app) and in the city of Chicago via cable television on CAN TV42.</p>\n\n<p>The Live Art Series is a monthly live art performance exploring a variety of art forms including music\, film\, dance\, storytelling\, and more! The Live Art Series event is hosted in the Dempsey Family Gallery at Water Street Studios. The Live Art Series is made possible by a grant from the Batavia Arts Council. If you are interested in performing at Water Street Studios for our Live Art Series please apply online at: http://bit.ly/2nyRJF7</p>\n\n<p>Note: All ticket sales go to support the continuation of arts programming at Water Street Studios\, a nonprofit art center located in Batavia\, Illinois.</p>\n\n<p>CONTACT</p>\n\n<p>Jaime Gutierrez\, Events Manager\, jaime@waterstreetstudios.org</p>\n\n<p>Danielle Hollis\, Executive Director\, danielle@waterstreetstudios.org</p>\n
LOCATION:Water Street Studios 160 S. Water Street
UID:e.1902.7924
SEQUENCE:3
DTSTAMP:20260424T163738Z
URL:https://business.bataviachamber.org/events/details/live-art-series-markus-rutz-trio-wdcb-jazz-night-7924
END:VEVENT

END:VCALENDAR
