BEGIN:VCALENDAR
VERSION:2.0
PRODID:-//ChamberMaster//Event Calendar 2.0//EN
METHOD:PUBLISH
X-PUBLISHED-TTL:P3D
REFRESH-INTERVAL:P3D
CALSCALE:GREGORIAN
BEGIN:VEVENT
DTSTART;VALUE=DATE:20170521
DTEND;VALUE=DATE:20170522
TRANSP:TRANSPARENT
X-MICROSOFT-CDO-ALLDAYEVENT:TRUE
SUMMARY:Little Angels Pledge Run
DESCRIPTION:The 30th Annual Little Angels Pledge Run is sponsored by the Elgin Area Organization of Motorcycle Riders\, in partnership with Woodstock Harley Davidson. We are so grateful to be a part of this amazing event.\nThe Pledge Run starts and ends at Woodstock Harley-Davidson (2235 Eastwood Drive\, Woodstock\, IL)\n\nCheck in and Registration: 9 a.m.\n\nFirst bike out: 10:30 a.m.\n\nLast bike out: 11:30 a.m.\n\nPost ride party: 12:30- 4:00 p.m.\n\nAll makes and models of motorcycles welcome! Registration Prices increase to $30 per rider on May 1\, 2017.\n\nALL Online Sales including Rider and Volunteer Registration\, Raffle Sales\, and T-shirt Sales will close on Friday\, May 19\, 2017 at 4 p.m. You may still register in person at Woodstock Harley Davidson at the event on Sunday May 21\, 2017.
X-ALT-DESC;FMTTYPE=text/html:<span style="color:rgb(68\, 68\, 68)\; font-family:arial\,helvetica\,sans-serif\; font-size:12px">The 30th Annual Little Angels Pledge Run is sponsored by the Elgin Area Organization of Motorcycle Riders\, in partnership with Woodstock Harley Davidson. We are so grateful to be a part of this amazing event.</span>\n<p>The Pledge Run starts and ends at Woodstock Harley-Davidson (2235 Eastwood Drive\, Woodstock\, IL)</p>\n\n<p>Check in and Registration: 9 a.m.</p>\n\n<p>First bike out: 10:30 a.m.</p>\n\n<p>Last bike out: 11:30 a.m.</p>\n\n<p>Post ride party: 12:30- 4:00 p.m.</p>\n\n<p>All makes and models of motorcycles welcome! Registration Prices increase to $30 per rider on May 1\, 2017.</p>\n\n<p><strong>ALL Online Sales including Rider and Volunteer Registration\, Raffle Sales\, and T-shirt Sales will close on Friday\, May 19\, 2017 at 4 p.m.</strong>&nbsp\;You may still register in person at Woodstock Harley Davidson at the event on Sunday May 21\, 2017.</p>\n
LOCATION:Woodstock Harley-Davidson\, 2235 Eastwood Drive\, Woodstock\, IL
UID:e.1902.6610
SEQUENCE:3
DTSTAMP:20260425T113239Z
URL:https://business.bataviachamber.org/events/details/little-angels-pledge-run-6610
END:VEVENT

END:VCALENDAR
