BEGIN:VCALENDAR
VERSION:2.0
PRODID:-//ChamberMaster//Event Calendar 2.0//EN
METHOD:PUBLISH
X-PUBLISHED-TTL:P3D
REFRESH-INTERVAL:P3D
CALSCALE:GREGORIAN
BEGIN:VEVENT
DTSTART:20201120T140000Z
DTEND:20201120T180000Z
X-MICROSOFT-CDO-ALLDAYEVENT:FALSE
SUMMARY:LinkedIn For Sales - Live (Online) Training Bootcamp
DESCRIPTION:This Live LinkedIn Bootcamp WILL Work For You!\n\nhttps://events.eventzilla.net/e/linkedin-for-sales--live-online-training-bootcamp-2138789811\n\n\n\nLinkedIn is THE de facto Business To Business Social Networking & Relationship Building website. \n\n\n\nMost courses show you "The How & The Who?" \n\n\n\nThis teaches you "The WHY and The WHAT!" \n\n\n\nDiscover the MISSING LINK that has helped businesses create unprecedented new sales in 2020 without spending tons of time and money!\n\n\n\nWho Should Attend?\n\nFrom newbie to experienced professional  If you are in sales or marketing for a company that sells products or services to any other Business to Business company? This is for YOU!\n\n\n\nWhat Solutions Will YOU Take Away?\n\n3 Main Modules - Optimize Your Profile | Making GREAT Connections | Sharing GREAT Content.\n\n\n\n(Bonus - Online Tools that can SUPER-CHARGE your LinkedIn Sales Prospecting)\n\n\n\nSpeak with your PERFECT customers.\n\nHow to easily create perfect LinkedIn graphics for FREE (Hint: LinkedIn Templates)\n\nWhy aligning your sales team is imperative (Hint: Your Company Page Matters)\n\nThe secrets to getting clients to contact you (Hint: No-Pitch Solution)\n\nHow to choose with the RIGHT connections (Hint: You don't need 30\,000)\n\nThe simple success secret that gets you noticed (Hint: Only .5% of LinkedIn users do this)
X-ALT-DESC;FMTTYPE=text/html:<p>This Live LinkedIn Bootcamp WILL Work For You!</p>\n\n<p>https://events.eventzilla.net/e/linkedin-for-sales--live-online-training-bootcamp-2138789811<br />\n<br />\nLinkedIn is THE de facto Business To Business Social Networking &amp\; Relationship Building website.&nbsp\;<br />\n<br />\nMost courses show you &quot\;The How &amp\; The Who?&quot\;&nbsp\;<br />\n<br />\nThis teaches you &quot\;The WHY and The WHAT!&quot\;&nbsp\;<br />\n<br />\nDiscover the MISSING LINK that has helped businesses create unprecedented new sales in 2020 without spending tons of time and money!<br />\n<br />\nWho Should Attend?<br />\nFrom newbie to experienced professional&hellip\; If you are in sales or marketing for a company that sells products or services to any other Business to Business company? This is for YOU!<br />\n<br />\nWhat Solutions Will YOU Take Away?<br />\n3 Main Modules - Optimize Your Profile | Making GREAT Connections | Sharing GREAT Content.<br />\n<br />\n(Bonus - Online Tools that can SUPER-CHARGE your LinkedIn Sales Prospecting)<br />\n<br />\nSpeak with your PERFECT customers.<br />\nHow to easily create perfect LinkedIn graphics for FREE (Hint: LinkedIn Templates)<br />\nWhy aligning your sales team is imperative (Hint: Your Company Page Matters)<br />\nThe secrets to getting clients to contact you (Hint: No-Pitch Solution)<br />\nHow to choose with the RIGHT connections (Hint: You don&rsquo\;t need 30\,000)<br />\nThe simple success secret that gets you noticed (Hint: Only .5% of LinkedIn users do this)</p>\n
LOCATION:https://events.eventzilla.net/e/linkedin-for-sales--live-online-training-bootcamp-2138789811
UID:e.1902.12733
SEQUENCE:3
DTSTAMP:20260422T080747Z
URL:https://business.bataviachamber.org/events/details/linkedin-for-sales-live-online-training-bootcamp-12733
END:VEVENT

END:VCALENDAR
