BEGIN:VCALENDAR
VERSION:2.0
PRODID:-//ChamberMaster//Event Calendar 2.0//EN
METHOD:PUBLISH
X-PUBLISHED-TTL:P3D
REFRESH-INTERVAL:P3D
CALSCALE:GREGORIAN
BEGIN:VEVENT
DTSTART:20090112T220000Z
DTEND:20090113T010000Z
X-MICROSOFT-CDO-ALLDAYEVENT:FALSE
SUMMARY:Lincoln Inn Grand Reopening & Ribbon Cutting
DESCRIPTION:Come join the festivities as the entire community officially welcomes the beautiful\, completely remodeled Lincoln Inn Banquets to Batavia. The lobby and meeting rooms are warm\, inviting and ready to host your next special event.After more than two years of investment\, the staff of Lincoln Inn Banquets would like the community to come see what they have to offer for banquets and special events. Every room will welcome guests with light appetizers and refreshments.
X-ALT-DESC;FMTTYPE=text/html:<P align=left>Come join the festivities as the entire community officially welcomes the beautiful\, completely remodeled Lincoln Inn Banquets to Batavia. The lobby and meeting rooms are warm\, inviting and ready to host your next special event.</P><P align=left>After more than two years of investment\, the staff of Lincoln Inn Banquets would like the community to come see what they have to offer&nbsp\;for banquets and special events. Every room will welcome guests with light appetizers and refreshments.</P>
LOCATION:Lincoln Inn Banquets
UID:e.1902.1724
SEQUENCE:3
DTSTAMP:20260421T181023Z
URL:https://business.bataviachamber.org/events/details/lincoln-inn-grand-reopening-ribbon-cutting-01-12-2009-1724
END:VEVENT

END:VCALENDAR
