BEGIN:VCALENDAR
VERSION:2.0
PRODID:-//ChamberMaster//Event Calendar 2.0//EN
METHOD:PUBLISH
X-PUBLISHED-TTL:P3D
REFRESH-INTERVAL:P3D
CALSCALE:GREGORIAN
BEGIN:VEVENT
DTSTART:20091017T050000Z
DTEND:20091017T050000Z
X-MICROSOFT-CDO-ALLDAYEVENT:FALSE
SUMMARY:Lights\, Camera\, Auction!
DESCRIPTION:Join us for this wonderful evening of spirited bidding\, great food and fellowship\, and tons of fun!Something for everyone - a great place to do your holiday shopping!  Admission is free and dinner is included. A highlight of the evening will be the drawing for a $1000 cash raffle prize.  Everyoneis welcome!
X-ALT-DESC;FMTTYPE=text/html:Join us for this wonderful evening of spirited bidding\, great food and fellowship\, and tons of fun!Something for everyone - a great place to do your holiday shopping!  Admission is free and dinner is included. A highlight of the evening will be the drawing for a $1000 cash raffle prize.  Everyoneis welcome!
LOCATION:Calvary Episcopal Church
UID:e.1902.988
SEQUENCE:3
DTSTAMP:20260424T224603Z
URL:https://business.bataviachamber.org/events/details/lights-camera-auction-10-17-2009-988
END:VEVENT

END:VCALENDAR
