BEGIN:VCALENDAR
VERSION:2.0
PRODID:-//ChamberMaster//Event Calendar 2.0//EN
METHOD:PUBLISH
X-PUBLISHED-TTL:P3D
REFRESH-INTERVAL:P3D
CALSCALE:GREGORIAN
BEGIN:VEVENT
DTSTART:20100925T050000Z
DTEND:20100925T050000Z
X-MICROSOFT-CDO-ALLDAYEVENT:FALSE
SUMMARY:Lights\, Camera\, Auction!
DESCRIPTION:Join us for fun\, food\, and great raffle and silent auction items!  Thanks to generous donations frommembers and local businesses\, choose from nearly a hundred theme baskets\, gift certificates\, professional services and more!  In addition\, our grand prize raffle this year is a Deluxe Home Entertainment Package\, including a flat screen HDTV/DVD combo and a one-year subscription to Netflix.  Admission is free and dinner is included!  to reserve your spot.  Bring a friend!\n\nProceeds from the event fund Calvary ministries\, including several outreach efforts in the Batavia Area\, such as the Batavia Interfaith Food Pantry\, Hesed House and more.
X-ALT-DESC;FMTTYPE=text/html:Join us for fun\, food\, and great raffle and silent auction items!  Thanks to generous donations frommembers and local businesses\, choose from nearly a hundred theme baskets\, gift certificates\, professional services and more!  In addition\, our grand prize raffle this year is a Deluxe Home Entertainment Package\, including a flat screen HDTV/DVD combo and a one-year subscription to Netflix.  Admission is free and dinner is included!  to reserve your spot.  Bring a friend!\n\nProceeds from the event fund Calvary ministries\, including several outreach efforts in the Batavia Area\, such as the Batavia Interfaith Food Pantry\, Hesed House and more.\n\n\n
LOCATION:Calvary Episcopal Church
UID:e.1902.30
SEQUENCE:3
DTSTAMP:20260420T072055Z
URL:https://business.bataviachamber.org/events/details/lights-camera-auction-09-25-2010-30
END:VEVENT

END:VCALENDAR
