BEGIN:VCALENDAR
VERSION:2.0
PRODID:-//ChamberMaster//Event Calendar 2.0//EN
METHOD:PUBLISH
X-PUBLISHED-TTL:P3D
REFRESH-INTERVAL:P3D
CALSCALE:GREGORIAN
BEGIN:VEVENT
DTSTART:20110405T050000Z
DTEND:20110405T050000Z
X-MICROSOFT-CDO-ALLDAYEVENT:FALSE
SUMMARY:Light Your Ride
DESCRIPTION:Volunteers from the Batavia Bicycle Commission\, Water Street Studios\, and the community will be on hand with tools and supplies to help make your bicycle and any other gear reflective and safe for riding at night. Participants are to supply their own bicycles and gear and we will supply the reflective tape and stickers. A brief discussion about bike safety and riding safely at night willbe given. Sigma Sports will be on hand to demonstrate some of their bike lighting systems.Prairie Path Cycles will be available to give repair tips and safe riding tips.Following theevent\, those interested are invited to participate in a night bike ride to show off your new look.The ride will end at Fox’s on the River where you can enjoy ½ price pizza!Cost is free\, but donations would be gladly accepted.
X-ALT-DESC;FMTTYPE=text/html:<P align=left>Volunteers from the Batavia Bicycle Commission\, Water Street Studios\, and the community will be on hand with tools and supplies to help make your bicycle and any other gear reflective and safe for riding at night. </P><P align=left>Participants are to supply their own bicycles and gear and we will supply the reflective tape and stickers. </P><P align=left>A brief discussion about bike safety and riding safely at night willbe given. </P><P align=left>Sigma Sports will be on hand to demonstrate some of their bike lighting systems.Prairie Path Cycles will be available to give repair tips and safe riding tips.</P><P align=left>Following theevent\, those interested are invited to participate in a night bike ride to show off your new look.The ride will end at Fox’s on the River where you can enjoy ½ price pizza!</P><P align=left>Cost is free\, but donations would be gladly accepted.</P>
LOCATION:Water Street Studios
UID:e.1902.209
SEQUENCE:3
DTSTAMP:20260419T180442Z
URL:https://business.bataviachamber.org/events/details/light-your-ride-04-05-2011-209
END:VEVENT

END:VCALENDAR
