BEGIN:VCALENDAR
VERSION:2.0
PRODID:-//ChamberMaster//Event Calendar 2.0//EN
METHOD:PUBLISH
X-PUBLISHED-TTL:P3D
REFRESH-INTERVAL:P3D
CALSCALE:GREGORIAN
BEGIN:VEVENT
DTSTART:20110217T060000Z
DTEND:20110217T060000Z
X-MICROSOFT-CDO-ALLDAYEVENT:FALSE
SUMMARY:Life Behind Bars ~ With Michael Adelsheim\, Adelsheim Vineyar
DESCRIPTION:Enjoy an evening with Michael Adelsheim of Adelsheim winery. He will entertain us with tales of thecreation of their wonderful portfolio while we taste through some of his favorites. Reservations arerequired. $20 per person. Fabulous prizes will be raffled to those who attend.
X-ALT-DESC;FMTTYPE=text/html:Enjoy an evening with Michael Adelsheim of Adelsheim winery. He will entertain us with tales of thecreation of their wonderful portfolio while we taste through some of his favorites. Reservations arerequired. $20 per person. Fabulous prizes will be raffled to those who attend.
LOCATION:Gibby's Wine Den
UID:e.1902.133
SEQUENCE:3
DTSTAMP:20260419T212436Z
URL:https://business.bataviachamber.org/events/details/life-behind-bars-with-michael-adelsheim-adelsheim-vineyar-02-17-2011-133
END:VEVENT

END:VCALENDAR
