BEGIN:VCALENDAR
VERSION:2.0
PRODID:-//ChamberMaster//Event Calendar 2.0//EN
METHOD:PUBLISH
X-PUBLISHED-TTL:P3D
REFRESH-INTERVAL:P3D
CALSCALE:GREGORIAN
BEGIN:VEVENT
DTSTART:20201130T143000Z
DTEND:20201211T223000Z
X-MICROSOFT-CDO-ALLDAYEVENT:FALSE
SUMMARY:Letters from Santa
DESCRIPTION:The kids will be excited to see a special letter from Santa Claus arrive in their mailbox this December! Drop off your child's letter to our North Pole mailbox located at the Civic Center front office from Monday\, November 30 to Friday\, December 11 at 4:30 pm. Include your return address on the letter you send to Santa so he can write back! Letters will be mailed out the week of December 14. Please register your child before placing the letter in the mailbox. The fee is $5 per child's letter.
X-ALT-DESC;FMTTYPE=text/html:The kids will be excited to see a special letter from Santa Claus arrive in their mailbox this December! Drop off your child&#39\;s letter to our North Pole mailbox located at the Civic Center front office from Monday\, November 30 to Friday\, December 11 at 4:30 pm. Include your return address on the letter you send to Santa so he can write back! Letters will be mailed out the week of December 14. Please register your child before placing the letter in the mailbox. The fee is $5 per child&#39\;s letter.
LOCATION:Batavia Park District - Civic Center
UID:e.1902.12745
SEQUENCE:3
DTSTAMP:20260422T080747Z
URL:https://business.bataviachamber.org/events/details/letters-from-santa-12745
END:VEVENT

END:VCALENDAR
