BEGIN:VCALENDAR
VERSION:2.0
PRODID:-//ChamberMaster//Event Calendar 2.0//EN
METHOD:PUBLISH
X-PUBLISHED-TTL:P3D
REFRESH-INTERVAL:P3D
CALSCALE:GREGORIAN
BEGIN:VEVENT
DTSTART:20091205T060000Z
DTEND:20091205T060000Z
X-MICROSOFT-CDO-ALLDAYEVENT:FALSE
SUMMARY:Lessons & Carols
DESCRIPTION:Concert of Christmas favorites with accompanying Bible readings. Immanuel's mass choir under the direction of Sharon Dalpini with instrumentals under the direction of Charlotte Bogda.
X-ALT-DESC;FMTTYPE=text/html:Concert of Christmas favorites with accompanying Bible readings. Immanuel's mass choir under the direction of Sharon Dalpini with instrumentals under the direction of Charlotte Bogda.
LOCATION:Immanuel Lutheran Church and School
UID:e.1902.1067
SEQUENCE:3
DTSTAMP:20260420T213039Z
URL:https://business.bataviachamber.org/events/details/lessons-carols-12-05-2009-1067
END:VEVENT

END:VCALENDAR
