BEGIN:VCALENDAR
VERSION:2.0
PRODID:-//ChamberMaster//Event Calendar 2.0//EN
METHOD:PUBLISH
X-PUBLISHED-TTL:P3D
REFRESH-INTERVAL:P3D
CALSCALE:GREGORIAN
BEGIN:VEVENT
DTSTART:20110324T050000Z
DTEND:20110324T050000Z
X-MICROSOFT-CDO-ALLDAYEVENT:FALSE
SUMMARY:Legislative Forum on Autism
DESCRIPTION:Featured Speakers:Christopher M. Kennedy\, Esq.: Partner\; Kennedy\, Pierson & Strachan\, LLP\nAdvocacy & Legislative IssuesMaryKay Betz\, Executive Director\, Autism Society of Illinois\nHow to Access State Services \nKim Zoeller\, President\, CEO\, Ray Graham Association\nLooking to the Future\, Adult Services Susan Hamre\, Autism Training Center Director\, Giant Steps Autism School\nWhat to do After the Diagnosis\nFor more information\, please contact Maria Rook in Representative Mike Fortner’s Office at (630) 293-9344.
X-ALT-DESC;FMTTYPE=text/html:<P align=left><FONT size=4>Featured Speakers:</FONT></P><P align=left><FONT size=4><STRONG>Christopher M. Kennedy\, Esq.:</STRONG> Partner\; Kennedy\, Pierson &amp\; Strachan\, LLP<BR>Advocacy &amp\; Legislative Issues</FONT></P><P align=left><FONT size=4><STRONG>MaryKay Betz</STRONG>\, Executive Director\, Autism Society of Illinois<BR>How to Access State Services </FONT></P><P align=left><BR><FONT size=4><STRONG>Kim Zoeller\,</STRONG> President\, CEO\, Ray Graham Association<BR>Looking to the Future\, Adult Services </FONT></P><P align=left><FONT size=4><STRONG>Susan Hamre\,</STRONG> Autism Training Center Director\, Giant Steps Autism School<BR>What to do After the Diagnosis<BR></P></FONT><P><FONT size=4>For more information\, please contact Maria Rook in Representative Mike Fortner’s Office at (630) 293-9344.</FONT></P>
LOCATION:Wheaton Park District Community Center
UID:e.1902.199
SEQUENCE:3
DTSTAMP:20260419T211908Z
URL:https://business.bataviachamber.org/events/details/legislative-forum-on-autism-03-24-2011-199
END:VEVENT

END:VCALENDAR
