BEGIN:VCALENDAR
VERSION:2.0
PRODID:-//ChamberMaster//Event Calendar 2.0//EN
METHOD:PUBLISH
X-PUBLISHED-TTL:P3D
REFRESH-INTERVAL:P3D
CALSCALE:GREGORIAN
BEGIN:VEVENT
DTSTART:20100308T060000Z
DTEND:20100308T060000Z
X-MICROSOFT-CDO-ALLDAYEVENT:FALSE
SUMMARY:Legislative Forum on Autism
DESCRIPTION:Annual Legislative Forum on Autism to be held on Monday\, March 8th at the Wheaton Park District Community Center
X-ALT-DESC;FMTTYPE=text/html:Annual Legislative Forum on Autism to be held on Monday\, March 8th at the Wheaton Park District Community Center
LOCATION:Wheaton Park District Community Center
UID:e.1902.1129
SEQUENCE:3
DTSTAMP:20260424T125116Z
URL:https://business.bataviachamber.org/events/details/legislative-forum-on-autism-03-08-2010-1129
END:VEVENT

END:VCALENDAR
