BEGIN:VCALENDAR
VERSION:2.0
PRODID:-//ChamberMaster//Event Calendar 2.0//EN
METHOD:PUBLISH
X-PUBLISHED-TTL:P3D
REFRESH-INTERVAL:P3D
CALSCALE:GREGORIAN
BEGIN:VEVENT
DTSTART:20110125T060000Z
DTEND:20110524T050000Z
X-MICROSOFT-CDO-ALLDAYEVENT:FALSE
SUMMARY:Learn to Link on LinkedIn
DESCRIPTION:LinkedIn is the fastest growing professional networking social media site. This workshop will help you learn how to use LinkedIn to your advantage to build your business or enhance your job search.\n\nWorking on a computer\, you will create (or edit) your profile and leave armed with more ammunitionto include in your networking arsenal.\n\nSeating is limited for this FREE event
X-ALT-DESC;FMTTYPE=text/html:LinkedIn is the fastest growing professional networking social media site. This workshop will help you learn how to use LinkedIn to your advantage to build your business or enhance your job search.\n\nWorking on a computer\, you will create (or edit) your profile and leave armed with more ammunitionto include in your networking arsenal.\n\nSeating is limited for this FREE event\n
LOCATION:N. Aurora Illinois workNet Center
UID:e.1902.106
SEQUENCE:3
DTSTAMP:20260419T180439Z
URL:https://business.bataviachamber.org/events/details/learn-to-link-on-linkedin-01-25-2011-106
END:VEVENT

END:VCALENDAR
